BEGIN:VCALENDAR
VERSION:2.0
CALSCALE:GREGORIAN
PRODID:adamgibbons/ics
METHOD:PUBLISH
X-PUBLISHED-TTL:PT1H
BEGIN:VEVENT
UID:6098@lapunta.org
SUMMARY:CORTEO AL CARCERE MINORILE
DTSTAMP:20260424T140138Z
DTSTART:20260425T120000Z
DESCRIPTION:PARTENZA SPOSTATA IN PIAZZA DEL CARMINE‼️‼️\n\nIl 25 aprile 1945 
	ci liberavamo dal fascismo. Eppure come sappiamo il fascismo\nnon ci ha ma
	i lasciatǝ. Italianità\, securitarismo e criminalizzazione è il\nmantra di
	 questo governo fascista (che peraltro prosegue sul tracciato dei\nprecede
	nti). Mentre il mondo capitalista sprofonda nella crisi perpetua e nelle\n
	guerre genocidarie e coloniali\, la povertà\, la disoccupazione e il lavor
	o\nprecario avanzano a spese dellǝ giovani\, dellǝ migranti\, delle famigl
	ie che\nfaticano ad arrivare a fine mese.\n\nE la risposta alla giusta rab
	bia di chi si vede emarginatǝ e spogliatǝ di tutto\nè un’ulteriore crimina
	lizzazione. Fin da giovanissimǝ ci insegnano ad avere\npaura delle autorit
	à\, a tenere a freno le domande\, a imparare nozioni a memoria\,\na subire
	 senza reagire. Il nostro futuro ci viene rubato dalle industrie\nbelliche
	\, dalla scomparsa dei diritti umani e dalla desertificazione sociale e\na
	mbientale e noi dovremmo restare sedutǝ compostǝ dietro i banchi?\n\nNegli
	 ultimi anni la repressione delle persone giovani è aumentata sempre di\np
	iù\, anche grazie alla narrazione tossica dei media su “maranza” e “baby g
	ang”.\nCon il decreto Caivano del 2023 sono aumentate le pene per molti pi
	ccoli reati\,\ncon il risultato di rinchiudere più giovani e giovanissimǝ 
	dietro le sbarre. Non\ndimentichiamo\, inoltre\, il coraggioso protagonism
	o dellǝ minori stranierǝ non\naccompagnatǝ nelle mobilitazioni per la Pale
	stina dei mesi scorsi. Ora pagano un\nprezzo più salato di altrǝ perché è 
	più facile reprimere chi già è ai margini\ndella società.\n\nOgni struttur
	a detentiva lascia ferite indelebili\, ma il carcere minorile è\nparticola
	rmente crudele perché tarpa le ali a chi sta per spiccare il volo alla\nsc
	operta della vita. Simboleggia l’accanimento dello stato contro chi subisc
	e un\nsistema malato architettato da altri e non riesce a trovarvi il prop
	rio posto.\n\nLibertà significa abolire ogni gabbia e ogni confine.\n\nPer
	 questo il 25 aprile 2026 vogliamo portare un po’ di rumore e solidarietà\
	nsotto il carcere minorile in Via Orti Oricellari 18\, una struttura fatis
	cente e\nspesso sovraffollata.\n\nCi troviamo alle 14:00 in piazza Santo S
	pirito e partiamo in corteo verso il\nminorile\, poi torneremo in Santo Sp
	irito per convergere con il corteo\nantifascista.\n\nPer tutte le realtà e
	 persone interessate a organizzare insieme il corteo e a\ndiscutere di rep
	ressione dellǝ minori\, appuntamento lunedì 20 aprile alle ore\n19:00 all’
	occupazione di via del Leone 60/62
URL:https://lapunta.org/event/corteo-al-carcere-minorile
LOCATION:Piazza del Carmine - Piazza del Carmine
STATUS:CONFIRMED
CATEGORIES:Anticarceraria,Firenze,antifascismo
X-ALT-DESC;FMTTYPE=text/html:<p>PARTENZA SPOSTATA IN PIAZZA DEL CARMINE‼️‼️</
	p><p>Il 25 aprile 1945 ci liberavamo dal fascismo. Eppure come sappiamo il
	 fascismo non ci ha mai lasciatǝ. Italianità, securitarismo e criminalizza
	zione è il mantra di questo governo fascista (che peraltro prosegue sul tr
	acciato dei precedenti). Mentre il mondo capitalista sprofonda nella crisi
	 perpetua e nelle guerre genocidarie e coloniali, la povertà, la disoccupa
	zione e il lavoro precario avanzano a spese dellǝ giovani, dellǝ migranti,
	 delle famiglie che faticano ad arrivare a fine mese.</p><p>E la risposta 
	alla giusta rabbia di chi si vede emarginatǝ e spogliatǝ di tutto è un’ult
	eriore criminalizzazione. Fin da giovanissimǝ ci insegnano ad avere paura 
	delle autorità, a tenere a freno le domande, a imparare nozioni a memoria,
	 a subire senza reagire. Il nostro futuro ci viene rubato dalle industrie 
	belliche, dalla scomparsa dei diritti umani e dalla desertificazione socia
	le e ambientale e noi dovremmo restare sedutǝ compostǝ dietro i banchi?</p
	><p>Negli ultimi anni la repressione delle persone giovani è aumentata sem
	pre di più, anche grazie alla narrazione tossica dei media su “maranza” e 
	“baby gang”. Con il decreto Caivano del 2023 sono aumentate le pene per mo
	lti piccoli reati, con il risultato di rinchiudere più giovani e giovaniss
	imǝ dietro le sbarre. Non dimentichiamo, inoltre, il coraggioso protagonis
	mo dellǝ minori stranierǝ non accompagnatǝ nelle mobilitazioni per la Pale
	stina dei mesi scorsi. Ora pagano un prezzo più salato di altrǝ perché è p
	iù facile reprimere chi già è ai margini della società.</p><p>Ogni struttu
	ra detentiva lascia ferite indelebili, ma il carcere minorile è particolar
	mente crudele perché tarpa le ali a chi sta per spiccare il volo alla scop
	erta della vita. Simboleggia l’accanimento dello stato contro chi subisce 
	un sistema malato architettato da altri e non riesce a trovarvi il proprio
	 posto.</p><p>Libertà significa abolire ogni gabbia e ogni confine.</p><p>
	Per questo il 25 aprile 2026 vogliamo portare un po’ di rumore e solidarie
	tà sotto il carcere minorile in Via Orti Oricellari 18, una struttura fati
	scente e spesso sovraffollata.</p><p>Ci troviamo alle 14:00 in piazza Sant
	o Spirito e partiamo in corteo verso il minorile, poi torneremo in Santo S
	pirito per convergere con il corteo antifascista.</p><p>Per tutte le realt
	à e persone interessate a organizzare insieme il corteo e a discutere di r
	epressione dellǝ minori, appuntamento lunedì 20 aprile alle ore 19:00 all’
	occupazione di via del Leone 60/62</p>
END:VEVENT
BEGIN:VEVENT
UID:272@lapunta.org
SUMMARY:Mercato Contadino in Piazza del Carmine
DTSTAMP:20260424T140138Z
DTSTART:20211118T150000Z
DTEND:20211118T190000Z
URL:https://lapunta.org/event/mercato-contadino-in-piazza-del-carmine-1
LOCATION:Piazza del Carmine - Piazza del Carmine
STATUS:CONFIRMED
CATEGORIES:
END:VEVENT
BEGIN:VEVENT
UID:10@lapunta.org
SUMMARY:Mercato Contadino in Piazza del Carmine
DTSTAMP:20260424T140138Z
DTSTART:20200403T133000Z
DTEND:20200403T173000Z
DESCRIPTION:Vi aspettiamo per una spesa sana e genuina\, direttamente dai c
	ontadini locali.\nGarantiamo sicurezza e salubrità!
URL:https://lapunta.org/event/10
LOCATION:Piazza del Carmine - Piazza del Carmine
STATUS:CONFIRMED
CATEGORIES:
X-ALT-DESC;FMTTYPE=text/html:<p>Vi aspettiamo per una spesa sana e genuina,
	 direttamente dai contadini locali. Garantiamo sicurezza e salubrità!</p>
END:VEVENT
BEGIN:VEVENT
UID:9@lapunta.org
SUMMARY:Mercato Contadino in Piazza del Carmine
DTSTAMP:20260424T140138Z
DTSTART:20200327T150000Z
DTEND:20200327T190000Z
DESCRIPTION:Da venerdì 27 marzo\, ogni venerdì\, saremo in Piazza del Carmi
	ne anziché in\npiazza Tasso\, per garantire cibo sano ai cittadini. Ci ved
	iamo lì! Solo durante\nquesta emergenza\, poi torneremo in piazza Tasso.
URL:https://lapunta.org/event/9
LOCATION:Piazza del Carmine - Piazza del Carmine
STATUS:CONFIRMED
CATEGORIES:
X-ALT-DESC;FMTTYPE=text/html:<p>Da venerdì 27 marzo, ogni venerdì, saremo i
	n Piazza del Carmine anziché in piazza Tasso, per garantire cibo sano ai c
	ittadini. Ci vediamo lì! Solo durante questa emergenza, poi torneremo in p
	iazza Tasso.</p>
END:VEVENT
END:VCALENDAR
